BEGIN:VCALENDAR
VERSION:2.0
PRODID:-//wp-events-plugin.com//7.2.3.1//EN
TZID:Europe/Berlin
X-WR-TIMEZONE:Europe/Berlin
BEGIN:VEVENT
UID:28@oberlausitzer-zukunftswald.de
DTSTART;TZID=Europe/Berlin:20251129T100000
DTEND;TZID=Europe/Berlin:20251129T130000
DTSTAMP:20250924T075417Z
URL:https://oberlausitzer-zukunftswald.de/events/oeffentliche-pflanzaktion
 -im-ostritzer-stadtwald-3/
SUMMARY:Öffentliche Pflanzaktion im Ostritzer Stadtwald
DESCRIPTION:Im Ostritzer Stadtwald sollen am 29. November 250 Bäume gepfla
 nzt werden. Anmeldung erforderlich!
ATTACH;FMTTYPE=image/jpeg:https://oberlausitzer-zukunftswald.de/wp-content
 /uploads/2025/08/02112014_Pflanzaktion-Ostritz_Lisa-Janke-SMNG-9_Kopie_Web
 .jpg
CATEGORIES:Termine
LOCATION:https://maps.app.goo.gl/NKizqfE8g2AyMwja7
END:VEVENT
BEGIN:VTIMEZONE
TZID:Europe/Berlin
X-LIC-LOCATION:Europe/Berlin
BEGIN:STANDARD
DTSTART:20251026T020000
TZOFFSETFROM:+0200
TZOFFSETTO:+0100
TZNAME:CET
END:STANDARD
END:VTIMEZONE
END:VCALENDAR